Workbook

Sheet Finishing Schedule
A1: Item | B1: Complex | C1: Vendor | G1: Total | H1: NA | I1: Submit
A2: T351 | B2: =VLOOKUP(A2,[1]Matrix!$A:$A,1,0) -> T351 | C2: =VLOOKUP(Table1[[#This Row],[Item]],CVRO!A:D,4,0) -> ANH KHOA CO LTD | G2: =COUNTA(Table1[Item]) -> 289 | H2: =COUNTIF(Table1[Complex], "#N/A") -> 5 | I2: =G2-H2 -> 284
A3: T5826 | B3: =VLOOKUP(A3,[1]Matrix!$A:$A,1,0) -> T5826 | C3: =VLOOKUP(Table1[[#This Row],[Item]],CVRO!A:D,4,0) -> ANH KHOA CO LTD
A4: T5829 | B4: =VLOOKUP(A4,[1]Matrix!$A:$A,1,0) -> T5829 | C4: =VLOOKUP(Table1[[#This Row],[Item]],CVRO!A:D,4,0) -> ANH KHOA CO LTD | G4: Complete %
A5: T678 | B5: =VLOOKUP(A5,[1]Matrix!$A:$A,1,0) -> T678 | C5: =VLOOKUP(Table1[[#This Row],[Item]],CVRO!A:D,4,0) -> ANH KHOA CO LTD | G5: =I2/G2 -> 0.98269896
A6: H611 | B6: =VLOOKUP(A6,[1]Matrix!$A:$A,1,0) -> #N/A | C6: =VLOOKUP(Table1[[#This Row],[Item]],CVRO!A:D,4,0) -> BEST FURNITURE VIETNAM
A7: H675 | B7: =VLOOKUP(A7,[1]Matrix!$A:$A,1,0) -> H675 | C7: =VLOOKUP(Table1[[#This Row],[Item]],CVRO!A:D,4,0) -> BEST FURNITURE VIETNAM
A8: T664 | B8: =VLOOKUP(A8,[1]Matrix!$A:$A,1,0) -> T664 | C8: =VLOOKUP(Table1[[#This Row],[Item]],CVRO!A:D,4,0) -> BEST FURNITURE VIETNAM
A9: T747 | B9: =VLOOKUP(A9,[1]Matrix!$A:$A,1,0) -> T747 | C9: =VLOOKUP(Table1[[#This Row],[Item]],CVRO!A:D,4,0) -> BEST FURNITURE VIETNAM
A10: W664 | B10: =VLOOKUP(A10,[1]Matrix!$A:$A,1,0) -> W664 | C10: =VLOOKUP(Table1[[#This Row],[Item]],CVRO!A:D,4,0) -> BEST FURNITURE VIETNAM
A11: W781 | B11: =VLOOKUP(A11,[1]Matrix!$A:$A,1,0) -> W781 | C11: =VLOOKUP(Table1[[#This Row],[Item]],CVRO!A:D,4,0) -> BEST FURNITURE VIETNAM
A12: W794 | B12: =VLOOKUP(A12,[1]Matrix!$A:$A,1,0) -> W794 | C12: =VLOOKUP(Table1[[#This Row],[Item]],CVRO!A:D,4,0) -> BEST FURNITURE VIETNAM
A13: W808 | B13: =VLOOKUP(A13,[1]Matrix!$A:$A,1,0) -> W808 | C13: =VLOOKUP(Table1[[#This Row],[Item]],CVRO!A:D,4,0) -> BEST FURNITURE VIETNAM
A14: B618 | B14: =VLOOKUP(A14,[1]Matrix!$A:$A,1,0) -> B618 | C14: =VLOOKUP(Table1[[#This Row],[Item]],CVRO!A:D,4,0) -> BEST FURNITURE VIETNAM
A15: B733 | B15: =VLOOKUP(A15,[1]Matrix!$A:$A,1,0) -> B733 | C15: =VLOOKUP(Table1[[#This Row],[Item]],CVRO!A:D,4,0) -> BEST FURNITURE VIETNAM
A16: H556 | B16: =VLOOKUP(A16,[1]Matrix!$A:$A,1,0) -> H556 | C16: =VLOOKUP(Table1[[#This Row],[Item]],CVRO!A:D,4,0) -> BEST FURNITURE VIETNAM
A17: T007 | B17: =VLOOKUP(A17,[1]Matrix!$A:$A,1,0) -> T007 | C17: =VLOOKUP(Table1[[#This Row],[Item]],CVRO!A:D,4,0) -> BEST FURNITURE VIETNAM
... A290: T821 | B290: =VLOOKUP(A290,[1]Matrix!$A:$A,1,0) -> T821 | C290: =VLOOKUP(Table1[[#This Row],[Item]],CVRO!A:D,4,0) -> XIN WANG CO LTD

Sheet Sheet1
A1: Item | B1: Complex | C1: Vendor
A2: A3000031 | B2: A3000031 | C2: COUNTRY WOOD FURNITURE
A3: A3000029 | B3: #N/A | C3: COUNTRY WOOD FURNITURE
A4: A3000074 | B4: #N/A | C4: COUNTRY WOOD FURNITURE
A5: A3000202 | B5: #N/A | C5: COUNTRY WOOD FURNITURE
A6: A3000224 | B6: A3000224 | C6: COUNTRY WOOD FURNITURE
A7: A3000247 | B7: #N/A | C7: COUNTRY WOOD FURNITURE
A8: A3000333 | B8: #N/A | C8: COUNTRY WOOD FURNITURE
A9: A3000641 | B9: #N/A | C9: COUNTRY WOOD FURNITURE
A10: A3000670 | B10: A3000670 | C10: COUNTRY WOOD FURNITURE
A11: A3000693 | B11: #N/A | C11: COUNTRY WOOD FURNITURE
A12: A3000694 | B12: #N/A | C12: COUNTRY WOOD FURNITURE
A13: A3000695 | B13: #N/A | C13: COUNTRY WOOD FURNITURE
A14: A3000696 | B14: #N/A | C14: COUNTRY WOOD FURNITURE
A15: A3000698 | B15: #N/A | C15: COUNTRY WOOD FURNITURE
A16: A3000699 | B16: #N/A | C16: COUNTRY WOOD FURNITURE
A17: A3000705 | B17: #N/A | C17: COUNTRY WOOD FURNITURE
A18: A3000740 | B18: #N/A | C18: COUNTRY WOOD FURNITURE
A19: A3000741 | B19: #N/A | C19: COUNTRY WOOD FURNITURE
A20: A3000744 | B20: #N/A | C20: COUNTRY WOOD FURNITURE
A21: A3000745 | B21: A3000745 | C21: COUNTRY WOOD FURNITURE
A22: A3000749 | B22: #N/A | C22: COUNTRY WOOD FURNITURE
A23: A3000750 | B23: #N/A | C23: COUNTRY WOOD FURNITURE
A24: A3000796 | B24: #N/A | C24: COUNTRY WOOD FURNITURE
A25: A3000797 | B25: #N/A | C25: COUNTRY WOOD FURNITURE
A26: A3000798 | B26: #N/A | C26: COUNTRY WOOD FURNITURE
A27: A3000799 | B27: #N/A | C27: COUNTRY WOOD FURNITURE
A28: D766 | B28: #N/A | C28: COUNTRY WOOD FURNITURE
A29: D250 | B29: D250 | C29: COUNTRY WOOD FURNITURE

Sheet All Offices
B1: Item Number | C1: Vendor Number | D1: Vendor Name | E1: Office
B2: 01060 | C2: =VLOOKUP(B2,'[2]Production ScheduleNThuy4159'!$A:$B,2,0) -> 622072 | D2: =VLOOKUP(C2,'[3]Vendor Numbers and Assignments'!$A:$B,2,0) -> #N/A | E2: =VLOOKUP(C2,'[3]Vendor Numbers and Assignments'!$A:$D,4,0) -> #N/A
B3: 01116 | C3: =VLOOKUP(B3,'[2]Production ScheduleNThuy4159'!$A:$B,2,0) -> 900515 | D3: =VLOOKUP(C3,'[3]Vendor Numbers and Assignments'!$A:$B,2,0) -> #N/A | E3: =VLOOKUP(C3,'[3]Vendor Numbers and Assignments'!$A:$D,4,0) -> #N/A
B4: 01141 | C4: =VLOOKUP(B4,'[2]Production ScheduleNThuy4159'!$A:$B,2,0) -> 624556 | D4: =VLOOKUP(C4,'[3]Vendor Numbers and Assignments'!$A:$B,2,0) -> #N/A | E4: =VLOOKUP(C4,'[3]Vendor Numbers and Assignments'!$A:$D,4,0) -> #N/A
B5: 01172 | C5: =VLOOKUP(B5,'[2]Production ScheduleNThuy4159'!$A:$B,2,0) -> 900515 | D5: =VLOOKUP(C5,'[3]Vendor Numbers and Assignments'!$A:$B,2,0) -> #N/A | E5: =VLOOKUP(C5,'[3]Vendor Numbers and Assignments'!$A:$D,4,0) -> #N/A
B6: 01192 | C6: =VLOOKUP(B6,'[2]Production ScheduleNThuy4159'!$A:$B,2,0) -> 900515 | D6: =VLOOKUP(C6,'[3]Vendor Numbers and Assignments'!$A:$B,2,0) -> #N/A | E6: =VLOOKUP(C6,'[3]Vendor Numbers and Assignments'!$A:$D,4,0) -> #N/A
B7: 01222 | C7: =VLOOKUP(B7,'[2]Production ScheduleNThuy4159'!$A:$B,2,0) -> 645351 | D7: =VLOOKUP(C7,'[3]Vendor Numbers and Assignments'!$A:$B,2,0) -> GRANDWELL INDUSTRIAL CO LTD | E7: =VLOOKUP(C7,'[3]Vendor Numbers and Assignments'!$A:$D,4,0) -> ATLO
B8: 01235 | C8: =VLOOKUP(B8,'[2]Production ScheduleNThuy4159'!$A:$B,2,0) -> 656597 | D8: =VLOOKUP(C8,'[3]Vendor Numbers and Assignments'!$A:$B,2,0) -> #N/A | E8: =VLOOKUP(C8,'[3]Vendor Numbers and Assignments'!$A:$D,4,0) -> #N/A
B9: 01237 | C9: =VLOOKUP(B9,'[2]Production ScheduleNThuy4159'!$A:$B,2,0) -> 633104 | D9: =VLOOKUP(C9,'[3]Vendor Numbers and Assignments'!$A:$B,2,0) -> #N/A | E9: =VLOOKUP(C9,'[3]Vendor Numbers and Assignments'!$A:$D,4,0) -> #N/A
B10: 01263 | C10: =VLOOKUP(B10,'[2]Production ScheduleNThuy4159'!$A:$B,2,0) -> 900352 | D10: =VLOOKUP(C10,'[3]Vendor Numbers and Assignments'!$A:$B,2,0) -> BEAR ASIA FURN CO LTD | E10: =VLOOKUP(C10,'[3]Vendor Numbers and Assignments'!$A:$D,4,0) -> ATLO
B11: 01264 | C11: =VLOOKUP(B11,'[2]Production ScheduleNThuy4159'!$A:$B,2,0) -> 633104 | D11: =VLOOKUP(C11,'[3]Vendor Numbers and Assignments'!$A:$B,2,0) -> #N/A | E11: =VLOOKUP(C11,'[3]Vendor Numbers and Assignments'!$A:$D,4,0) -> #N/A
B12: 01266 | C12: =VLOOKUP(B12,'[2]Production ScheduleNThuy4159'!$A:$B,2,0) -> 645351 | D12: =VLOOKUP(C12,'[3]Vendor Numbers and Assignments'!$A:$B,2,0) -> GRANDWELL INDUSTRIAL CO LTD | E12: =VLOOKUP(C12,'[3]Vendor Numbers and Assignments'!$A:$D,4,0) -> ATLO
B13: 01279 | C13: =VLOOKUP(B13,'[2]Production ScheduleNThuy4159'!$A:$B,2,0) -> 900352 | D13: =VLOOKUP(C13,'[3]Vendor Numbers and Assignments'!$A:$B,2,0) -> BEAR ASIA FURN CO LTD | E13: =VLOOKUP(C13,'[3]Vendor Numbers and Assignments'!$A:$D,4,0) -> ATLO
... B19494: YU1000938 | C19494: =VLOOKUP(B19494,'[2]Production ScheduleNThuy4159'!$A:$B,2,0) -> 657604 | D19494: =VLOOKUP(C19494,'[3]Vendor Numbers and Assignments'!$A:$B,2,0) -> #N/A | E19494: =VLOOKUP(C19494,'[3]Vendor Numbers and Assignments'!$A:$D,4,0) -> #N/A
A19497: Grand Total

Sheet CVRO
A1: Group Number | B1: Item Number | C1: Vendor Number | D1: Vendor Name | E1: Office
A2: A3000029 | B2: A3000029 | C2: 626704 | D2: COUNTRY WOOD FURNITURE | E2: CVRO
A3: A3000031 | B3: A3000031 | C3: 626704 | D3: COUNTRY WOOD FURNITURE | E3: CVRO
A4: A3000074 | B4: A3000074 | C4: 626704 | D4: COUNTRY WOOD FURNITURE | E4: CVRO
A5: A3000157 | B5: A3000157 | C5: 609296 | D5: HONG FU CO LTD | E5: CVRO
A6: A3000202 | B6: A3000202 | C6: 626704 | D6: COUNTRY WOOD FURNITURE | E6: CVRO
A7: A3000224 | B7: A3000224 | C7: 626704 | D7: COUNTRY WOOD FURNITURE | E7: CVRO
A8: A3000247 | B8: A3000247 | C8: 626704 | D8: COUNTRY WOOD FURNITURE | E8: CVRO
A9: A3000333 | B9: A3000333 | C9: 626704 | D9: COUNTRY WOOD FURNITURE | E9: CVRO
A10: A3000641 | B10: A3000641 | C10: 626704 | D10: COUNTRY WOOD FURNITURE | E10: CVRO
A11: A3000670 | B11: A3000670 | C11: 626704 | D11: COUNTRY WOOD FURNITURE | E11: CVRO
A12: A3000693 | B12: A3000693 | C12: 626704 | D12: COUNTRY WOOD FURNITURE | E12: CVRO
A13: A3000694 | B13: A3000694 | C13: 626704 | D13: COUNTRY WOOD FURNITURE | E13: CVRO
... A56: A4000731 | B56: A4000731 | C56: 638807 | D56: GRAND WOOD VN CO LTD | E56: CVRO
A57: =_xlfn.TEXTBEFORE(B57,"-") -> B414 | B57: B414-21 | C57: 613860 | D57: TIEN TRIEN VIETNAM CO | E57: CVRO
A58: =_xlfn.TEXTBEFORE(B58,"-") -> B414 | B58: B414-26 | C58: 613860 | D58: TIEN TRIEN VIETNAM CO | E58: CVRO
A59: =_xlfn.TEXTBEFORE(B59,"-") -> B414 | B59: B414-45 | C59: 613860 | D59: TIEN TRIEN VIETNAM CO | E59: CVRO
A60: =_xlfn.TEXTBEFORE(B60,"-") -> B414 | B60: B414-52 | C60: 613860 | D60: TIEN TRIEN VIETNAM CO | E60: CVRO
A61: =_xlfn.TEXTBEFORE(B61,"-") -> B414 | B61: B414-53 | C61: 613860 | D61: TIEN TRIEN VIETNAM CO | E61: CVRO
A62: =_xlfn.TEXTBEFORE(B62,"-") -> B414 | B62: B414-54 | C62: 613860 | D62: TIEN TRIEN VIETNAM CO | E62: CVRO
A63: =_xlfn.TEXTBEFORE(B63,"-") -> B414 | B63: B414-57 | C63: 613860 | D63: TIEN TRIEN VIETNAM CO | E63: CVRO
A64: =_xlfn.TEXTBEFORE(B64,"-") -> B414 | B64: B414-84 | C64: 613860 | D64: TIEN TRIEN VIETNAM CO | E64: CVRO
A65: =_xlfn.TEXTBEFORE(B65,"-") -> B414 | B65: B414-86 | C65: 613860 | D65: TIEN TRIEN VIETNAM CO | E65: CVRO
A66: =_xlfn.TEXTBEFORE(B66,"-") -> B414 | B66: B414-87 | C66: 613860 | D66: TIEN TRIEN VIETNAM CO | E66: CVRO
A67: =_xlfn.TEXTBEFORE(B67,"-") -> B414 | B67: B414-92 | C67: 613860 | D67: TIEN TRIEN VIETNAM CO | E67: CVRO
A68: =_xlfn.TEXTBEFORE(B68,"-") -> B414 | B68: B414-96 | C68: 613860 | D68: TIEN TRIEN VIETNAM CO | E68: CVRO
... A1609: =_xlfn.TEXTBEFORE(B1609,"-") -> W996 | B1609: W996-78 | C1609: 628381 | D1609: PENG YUAN VIETNAM CO LTD | E1609: CVRO
